BEGIN:VCALENDAR
VERSION:2.0
PRODID:-//StJamesPickleball.com - ECPv6.15.20//NONSGML v1.0//EN
CALSCALE:GREGORIAN
METHOD:PUBLISH
X-ORIGINAL-URL:https://stjamespickleball.com
X-WR-CALDESC:Events for StJamesPickleball.com
REFRESH-INTERVAL;VALUE=DURATION:PT1H
X-Robots-Tag:noindex
X-PUBLISHED-TTL:PT1H
BEGIN:VTIMEZONE
TZID:America/New_York
BEGIN:DAYLIGHT
TZOFFSETFROM:-0500
TZOFFSETTO:-0400
TZNAME:EDT
DTSTART:20240310T070000
END:DAYLIGHT
BEGIN:STANDARD
TZOFFSETFROM:-0400
TZOFFSETTO:-0500
TZNAME:EST
DTSTART:20241103T060000
END:STANDARD
BEGIN:DAYLIGHT
TZOFFSETFROM:-0500
TZOFFSETTO:-0400
TZNAME:EDT
DTSTART:20250309T070000
END:DAYLIGHT
BEGIN:STANDARD
TZOFFSETFROM:-0400
TZOFFSETTO:-0500
TZNAME:EST
DTSTART:20251102T060000
END:STANDARD
BEGIN:DAYLIGHT
TZOFFSETFROM:-0500
TZOFFSETTO:-0400
TZNAME:EDT
DTSTART:20260308T070000
END:DAYLIGHT
BEGIN:STANDARD
TZOFFSETFROM:-0400
TZOFFSETTO:-0500
TZNAME:EST
DTSTART:20261101T060000
END:STANDARD
BEGIN:DAYLIGHT
TZOFFSETFROM:-0500
TZOFFSETTO:-0400
TZNAME:EDT
DTSTART:20270314T070000
END:DAYLIGHT
BEGIN:STANDARD
TZOFFSETFROM:-0400
TZOFFSETTO:-0500
TZNAME:EST
DTSTART:20271107T060000
END:STANDARD
END:VTIMEZONE
BEGIN:VEVENT
DTSTART;TZID=America/New_York:20260419T180000
DTEND;TZID=America/New_York:20260419T210000
DTSTAMP:20260421T102600
CREATED:20260416T145103Z
LAST-MODIFIED:20260416T145103Z
UID:10003186-1776621600-1776632400@stjamespickleball.com
SUMMARY:SJPA Gathering on the Beach
DESCRIPTION:Due to the burn ban\, we cannot have a bonfire but we can still get together at the beach! \nAll SJPA members and friends are invited to join us for some beach time fun.   \n\nNear the St James Beach Club\nSocialize and meet new friends!\nThe event is BYOB
URL:https://stjamespickleball.com/event/sjpa-gathering-on-the-beach/
LOCATION:St James Beach Club\, 123 SE 72nd St\, Oak Island\, NC 28465\, Oak Island\, NC\, 28465\, United States
END:VEVENT
BEGIN:VEVENT
DTSTART;TZID=America/New_York:20250801T170000
DTEND;TZID=America/New_York:20250801T200000
DTSTAMP:20260421T102600
CREATED:20240913T145904Z
LAST-MODIFIED:20250710T130913Z
UID:10002737-1754067600-1754078400@stjamespickleball.com
SUMMARY:SJPA & SJTA Beach Nite
DESCRIPTION:  \nCome and join all your pickleball and tennis friends on August 1st from 5:00 PM to 8:00 PM for a fun-filled evening on the beach at St. James Beach Club. We will have music provided by Jim Robertson. This is a free event; registration is not necessary. Hang out\, enjoy old friends\, and make a few new ones!
URL:https://stjamespickleball.com/event/sjpa-and-sjta-beach-nite/
LOCATION:St James Beach Club\, 123 SE 72nd St\, Oak Island\, NC 28465\, Oak Island\, NC\, 28465\, United States
END:VEVENT
BEGIN:VEVENT
DTSTART;TZID=America/New_York:20250408T170000
DTEND;TZID=America/New_York:20250408T200000
DTSTAMP:20260421T102600
CREATED:20240913T145025Z
LAST-MODIFIED:20250328T165516Z
UID:10002734-1744131600-1744142400@stjamespickleball.com
SUMMARY:SJPA Bonfire on the Beach
DESCRIPTION:All SJPA members and friends are invited to join us for some beach time fun\, and a cozy visit around the fire.   You can even bring your own hot dogs to roast.  It’s a good time.  Don’t miss it!  \n\nNear the St James Beach Club\nSmores and roasting sticks will be provided for the first 100 people\nSocialize\, play some beach games\, and meet new friends!\nThe event is BYOB
URL:https://stjamespickleball.com/event/sjpa-bonfire-on-the-beach/
LOCATION:St James Beach Club\, 123 SE 72nd St\, Oak Island\, NC 28465\, Oak Island\, NC\, 28465\, United States
END:VEVENT
END:VCALENDAR