BEGIN:VCALENDAR
VERSION:2.0
PRODID:-//StJamesPickleball.com - ECPv6.15.20//NONSGML v1.0//EN
CALSCALE:GREGORIAN
METHOD:PUBLISH
X-ORIGINAL-URL:https://stjamespickleball.com
X-WR-CALDESC:Events for StJamesPickleball.com
REFRESH-INTERVAL;VALUE=DURATION:PT1H
X-Robots-Tag:noindex
X-PUBLISHED-TTL:PT1H
BEGIN:VTIMEZONE
TZID:America/New_York
BEGIN:DAYLIGHT
TZOFFSETFROM:-0500
TZOFFSETTO:-0400
TZNAME:EDT
DTSTART:20250309T070000
END:DAYLIGHT
BEGIN:STANDARD
TZOFFSETFROM:-0400
TZOFFSETTO:-0500
TZNAME:EST
DTSTART:20251102T060000
END:STANDARD
BEGIN:DAYLIGHT
TZOFFSETFROM:-0500
TZOFFSETTO:-0400
TZNAME:EDT
DTSTART:20260308T070000
END:DAYLIGHT
BEGIN:STANDARD
TZOFFSETFROM:-0400
TZOFFSETTO:-0500
TZNAME:EST
DTSTART:20261101T060000
END:STANDARD
BEGIN:DAYLIGHT
TZOFFSETFROM:-0500
TZOFFSETTO:-0400
TZNAME:EDT
DTSTART:20270314T070000
END:DAYLIGHT
BEGIN:STANDARD
TZOFFSETFROM:-0400
TZOFFSETTO:-0500
TZNAME:EST
DTSTART:20271107T060000
END:STANDARD
END:VTIMEZONE
BEGIN:VEVENT
DTSTART;TZID=America/New_York:20260517T130000
DTEND;TZID=America/New_York:20260517T160000
DTSTAMP:20260422T223145
CREATED:20260124T173200Z
LAST-MODIFIED:20260124T173200Z
UID:10003171-1779022800-1779033600@stjamespickleball.com
SUMMARY:Beginners Social Drill and Play
DESCRIPTION:More information on this event will be available soon
URL:https://stjamespickleball.com/event/beginners-social-drill-and-play/
LOCATION:Greg Rymer Memorial Pickleball Courts\, 3911 St James Drive\, Southport\, NC\, 28461\, United States
GEO:33.957598076726;-78.088184820114
X-APPLE-STRUCTURED-LOCATION;VALUE=URI;X-ADDRESS=Greg Rymer Memorial Pickleball Courts 3911 St James Drive Southport NC 28461 United States;X-APPLE-RADIUS=500;X-TITLE=3911 St James Drive:geo:-78.088184820114,33.957598076726
END:VEVENT
BEGIN:VEVENT
DTSTART;TZID=America/New_York:20260605T160000
DTEND;TZID=America/New_York:20260605T190000
DTSTAMP:20260422T223145
CREATED:20260124T173032Z
LAST-MODIFIED:20260124T173032Z
UID:10003170-1780675200-1780686000@stjamespickleball.com
SUMMARY:Mixed Social Play with Food Truck
DESCRIPTION:More information on this event will be available soon
URL:https://stjamespickleball.com/event/mixed-social-play-with-food-truck/
LOCATION:Greg Rymer Memorial Pickleball Courts\, 3911 St James Drive\, Southport\, NC\, 28461\, United States
GEO:33.957598076726;-78.088184820114
X-APPLE-STRUCTURED-LOCATION;VALUE=URI;X-ADDRESS=Greg Rymer Memorial Pickleball Courts 3911 St James Drive Southport NC 28461 United States;X-APPLE-RADIUS=500;X-TITLE=3911 St James Drive:geo:-78.088184820114,33.957598076726
END:VEVENT
BEGIN:VEVENT
DTSTART;TZID=America/New_York:20260618T160000
DTEND;TZID=America/New_York:20260618T190000
DTSTAMP:20260422T223145
CREATED:20260124T171745Z
LAST-MODIFIED:20260124T171745Z
UID:10003168-1781798400-1781809200@stjamespickleball.com
SUMMARY:Pool Party
DESCRIPTION:More information on this event will be available soon
URL:https://stjamespickleball.com/event/pool-party/
LOCATION:Greg Rymer Memorial Pickleball Courts\, 3911 St James Drive\, Southport\, NC\, 28461\, United States
GEO:33.957598076726;-78.088184820114
X-APPLE-STRUCTURED-LOCATION;VALUE=URI;X-ADDRESS=Greg Rymer Memorial Pickleball Courts 3911 St James Drive Southport NC 28461 United States;X-APPLE-RADIUS=500;X-TITLE=3911 St James Drive:geo:-78.088184820114,33.957598076726
END:VEVENT
BEGIN:VEVENT
DTSTART;TZID=America/New_York:20260705T130000
DTEND;TZID=America/New_York:20260705T160000
DTSTAMP:20260422T223145
CREATED:20260124T171646Z
LAST-MODIFIED:20260124T171646Z
UID:10003167-1783256400-1783267200@stjamespickleball.com
SUMMARY:Gen Z Social Play / Grandparents and Grandkids
DESCRIPTION:
URL:https://stjamespickleball.com/event/gen-z-social-play-grandparents-and-grandkids/
LOCATION:Greg Rymer Memorial Pickleball Courts\, 3911 St James Drive\, Southport\, NC\, 28461\, United States
GEO:33.957598076726;-78.088184820114
X-APPLE-STRUCTURED-LOCATION;VALUE=URI;X-ADDRESS=Greg Rymer Memorial Pickleball Courts 3911 St James Drive Southport NC 28461 United States;X-APPLE-RADIUS=500;X-TITLE=3911 St James Drive:geo:-78.088184820114,33.957598076726
END:VEVENT
BEGIN:VEVENT
DTSTART;TZID=America/New_York:20260708T173000
DTEND;TZID=America/New_York:20260708T203000
DTSTAMP:20260422T223145
CREATED:20260124T161919Z
LAST-MODIFIED:20260124T171441Z
UID:10003156-1783531800-1783542600@stjamespickleball.com
SUMMARY:Mixed Social with Ice Cream
DESCRIPTION:More information on this event will be available soon
URL:https://stjamespickleball.com/event/social-under-the-lights/
LOCATION:Greg Rymer Memorial Pickleball Courts\, 3911 St James Drive\, Southport\, NC\, 28461\, United States
GEO:33.957598076726;-78.088184820114
X-APPLE-STRUCTURED-LOCATION;VALUE=URI;X-ADDRESS=Greg Rymer Memorial Pickleball Courts 3911 St James Drive Southport NC 28461 United States;X-APPLE-RADIUS=500;X-TITLE=3911 St James Drive:geo:-78.088184820114,33.957598076726
END:VEVENT
BEGIN:VEVENT
DTSTART;TZID=America/New_York:20260710T110000
DTEND;TZID=America/New_York:20260711T140000
DTSTAMP:20260422T223145
CREATED:20260124T161622Z
LAST-MODIFIED:20260124T161658Z
UID:10003155-1783681200-1783778400@stjamespickleball.com
SUMMARY:Pickleball Watch Party at Ace's
DESCRIPTION:More information on this event will be available soon
URL:https://stjamespickleball.com/event/pickleball-watch-party-at-aces/
LOCATION:Greg Rymer Memorial Pickleball Courts\, 3911 St James Drive\, Southport\, NC\, 28461\, United States
GEO:33.957598076726;-78.088184820114
X-APPLE-STRUCTURED-LOCATION;VALUE=URI;X-ADDRESS=Greg Rymer Memorial Pickleball Courts 3911 St James Drive Southport NC 28461 United States;X-APPLE-RADIUS=500;X-TITLE=3911 St James Drive:geo:-78.088184820114,33.957598076726
END:VEVENT
BEGIN:VEVENT
DTSTART;TZID=America/New_York:20260801T170000
DTEND;TZID=America/New_York:20260801T200000
DTSTAMP:20260422T223145
CREATED:20260124T162016Z
LAST-MODIFIED:20260124T162016Z
UID:10003157-1785603600-1785614400@stjamespickleball.com
SUMMARY:SJPA/SJTA Beach Night
DESCRIPTION:More information on this event will be available soon
URL:https://stjamespickleball.com/event/sjpa-sjta-beach-night/
LOCATION:Greg Rymer Memorial Pickleball Courts\, 3911 St James Drive\, Southport\, NC\, 28461\, United States
GEO:33.957598076726;-78.088184820114
X-APPLE-STRUCTURED-LOCATION;VALUE=URI;X-ADDRESS=Greg Rymer Memorial Pickleball Courts 3911 St James Drive Southport NC 28461 United States;X-APPLE-RADIUS=500;X-TITLE=3911 St James Drive:geo:-78.088184820114,33.957598076726
END:VEVENT
BEGIN:VEVENT
DTSTART;TZID=America/New_York:20260911T160000
DTEND;TZID=America/New_York:20260911T190000
DTSTAMP:20260422T223145
CREATED:20260124T162138Z
LAST-MODIFIED:20260124T163252Z
UID:10003158-1789142400-1789153200@stjamespickleball.com
SUMMARY:Under The Lights - Food Truck
DESCRIPTION:More information on this event will be available soon
URL:https://stjamespickleball.com/event/under-the-lights-food-truck-2/
LOCATION:Greg Rymer Memorial Pickleball Courts\, 3911 St James Drive\, Southport\, NC\, 28461\, United States
GEO:33.957598076726;-78.088184820114
X-APPLE-STRUCTURED-LOCATION;VALUE=URI;X-ADDRESS=Greg Rymer Memorial Pickleball Courts 3911 St James Drive Southport NC 28461 United States;X-APPLE-RADIUS=500;X-TITLE=3911 St James Drive:geo:-78.088184820114,33.957598076726
END:VEVENT
BEGIN:VEVENT
DTSTART;TZID=America/New_York:20260926T080000
DTEND;TZID=America/New_York:20260927T170000
DTSTAMP:20260422T223145
CREATED:20260124T162329Z
LAST-MODIFIED:20260124T162329Z
UID:10003160-1790409600-1790528400@stjamespickleball.com
SUMMARY:Battle of the Paddle Competition
DESCRIPTION:More information on this event will be available soon
URL:https://stjamespickleball.com/event/battle-of-the-paddle-competition-2/
LOCATION:Greg Rymer Memorial Pickleball Courts\, 3911 St James Drive\, Southport\, NC\, 28461\, United States
GEO:33.957598076726;-78.088184820114
X-APPLE-STRUCTURED-LOCATION;VALUE=URI;X-ADDRESS=Greg Rymer Memorial Pickleball Courts 3911 St James Drive Southport NC 28461 United States;X-APPLE-RADIUS=500;X-TITLE=3911 St James Drive:geo:-78.088184820114,33.957598076726
END:VEVENT
BEGIN:VEVENT
DTSTART;TZID=America/New_York:20261016T080000
DTEND;TZID=America/New_York:20261018T170000
DTSTAMP:20260422T223145
CREATED:20260124T162448Z
LAST-MODIFIED:20260124T163132Z
UID:10003161-1792137600-1792342800@stjamespickleball.com
SUMMARY:SJPA Championship Weekend (Womens/Mens/Mixed)
DESCRIPTION:More information on this event will be available soon
URL:https://stjamespickleball.com/event/sjpa-championship-weekend-womens-mens-mixed/
LOCATION:Greg Rymer Memorial Pickleball Courts\, 3911 St James Drive\, Southport\, NC\, 28461\, United States
GEO:33.957598076726;-78.088184820114
X-APPLE-STRUCTURED-LOCATION;VALUE=URI;X-ADDRESS=Greg Rymer Memorial Pickleball Courts 3911 St James Drive Southport NC 28461 United States;X-APPLE-RADIUS=500;X-TITLE=3911 St James Drive:geo:-78.088184820114,33.957598076726
END:VEVENT
BEGIN:VEVENT
DTSTART;TZID=America/New_York:20261101T143000
DTEND;TZID=America/New_York:20261101T173000
DTSTAMP:20260422T223145
CREATED:20260124T162555Z
LAST-MODIFIED:20260124T163053Z
UID:10003162-1793543400-1793554200@stjamespickleball.com
SUMMARY:Halloween Social
DESCRIPTION:More information on this event will be available soon
URL:https://stjamespickleball.com/event/halloween-social-2/
LOCATION:Greg Rymer Memorial Pickleball Courts\, 3911 St James Drive\, Southport\, NC\, 28461\, United States
GEO:33.957598076726;-78.088184820114
X-APPLE-STRUCTURED-LOCATION;VALUE=URI;X-ADDRESS=Greg Rymer Memorial Pickleball Courts 3911 St James Drive Southport NC 28461 United States;X-APPLE-RADIUS=500;X-TITLE=3911 St James Drive:geo:-78.088184820114,33.957598076726
END:VEVENT
BEGIN:VEVENT
DTSTART;TZID=America/New_York:20261114T160000
DTEND;TZID=America/New_York:20261114T200000
DTSTAMP:20260422T223145
CREATED:20260124T162654Z
LAST-MODIFIED:20260124T163017Z
UID:10003163-1794672000-1794686400@stjamespickleball.com
SUMMARY:Member Appreciation/ Annual Meeting at the HOP
DESCRIPTION:More information on this event will be available soon
URL:https://stjamespickleball.com/event/member-appreciation-annual-meeting-at-the-hop-4/
LOCATION:Greg Rymer Memorial Pickleball Courts\, 3911 St James Drive\, Southport\, NC\, 28461\, United States
GEO:33.957598076726;-78.088184820114
X-APPLE-STRUCTURED-LOCATION;VALUE=URI;X-ADDRESS=Greg Rymer Memorial Pickleball Courts 3911 St James Drive Southport NC 28461 United States;X-APPLE-RADIUS=500;X-TITLE=3911 St James Drive:geo:-78.088184820114,33.957598076726
END:VEVENT
BEGIN:VEVENT
DTSTART;TZID=America/New_York:20261206T130000
DTEND;TZID=America/New_York:20261206T160000
DTSTAMP:20260422T223145
CREATED:20260124T162852Z
LAST-MODIFIED:20260124T162852Z
UID:10003164-1796562000-1796572800@stjamespickleball.com
SUMMARY:Holidink (Giving Play)
DESCRIPTION:More information on this event will be available soon
URL:https://stjamespickleball.com/event/holidink-giving-play/
LOCATION:Greg Rymer Memorial Pickleball Courts\, 3911 St James Drive\, Southport\, NC\, 28461\, United States
GEO:33.957598076726;-78.088184820114
X-APPLE-STRUCTURED-LOCATION;VALUE=URI;X-ADDRESS=Greg Rymer Memorial Pickleball Courts 3911 St James Drive Southport NC 28461 United States;X-APPLE-RADIUS=500;X-TITLE=3911 St James Drive:geo:-78.088184820114,33.957598076726
END:VEVENT
BEGIN:VEVENT
DTSTART;TZID=America/New_York:20261226T130000
DTEND;TZID=America/New_York:20261226T160000
DTSTAMP:20260422T223145
CREATED:20260124T162947Z
LAST-MODIFIED:20260124T162947Z
UID:10003165-1798290000-1798300800@stjamespickleball.com
SUMMARY:Gen Z Social Play
DESCRIPTION:More information on this event will be available soon
URL:https://stjamespickleball.com/event/gen-z-social-play/
LOCATION:Greg Rymer Memorial Pickleball Courts\, 3911 St James Drive\, Southport\, NC\, 28461\, United States
GEO:33.957598076726;-78.088184820114
X-APPLE-STRUCTURED-LOCATION;VALUE=URI;X-ADDRESS=Greg Rymer Memorial Pickleball Courts 3911 St James Drive Southport NC 28461 United States;X-APPLE-RADIUS=500;X-TITLE=3911 St James Drive:geo:-78.088184820114,33.957598076726
END:VEVENT
END:VCALENDAR